BEGIN:VCALENDAR
VERSION:2.0
PRODID:-//KuBa Jülich - ECPv6.2.9//NONSGML v1.0//EN
CALSCALE:GREGORIAN
METHOD:PUBLISH
X-WR-CALNAME:KuBa Jülich
X-ORIGINAL-URL:https://www.kuba-juelich.de
X-WR-CALDESC:Veranstaltungen für KuBa Jülich
REFRESH-INTERVAL;VALUE=DURATION:PT1H
X-Robots-Tag:noindex
X-PUBLISHED-TTL:PT1H
BEGIN:VTIMEZONE
TZID:Europe/Berlin
BEGIN:DAYLIGHT
TZOFFSETFROM:+0100
TZOFFSETTO:+0200
TZNAME:CEST
DTSTART:20250330T010000
END:DAYLIGHT
BEGIN:STANDARD
TZOFFSETFROM:+0200
TZOFFSETTO:+0100
TZNAME:CET
DTSTART:20251026T010000
END:STANDARD
END:VTIMEZONE
BEGIN:VEVENT
DTSTART;TZID=Europe/Berlin:20250116T100000
DTEND;TZID=Europe/Berlin:20250116T110000
DTSTAMP:20260424T214813
CREATED:20241206T105523Z
LAST-MODIFIED:20241206T105523Z
UID:10000345-1737021600-1737025200@www.kuba-juelich.de
SUMMARY:Die Wunderkugel
DESCRIPTION:Fithe – das Figurentheater aus Ostbelgien (B) \nDas Fithe Figurentheater gastiert am Donnerstag\, den 16. Januar 2025 um 10:00 Uhr\, im Kulturbahnhof Jülich mit dem Stück „Die Wunderkugel“. Das Stück richtet sich an begeisterte Kinder von 4 bis 10 Jahren. \n„Ihr habt einen Wunsch frei… Was würdet ihr euch wünschen? Milu\, ein Kind aus einem fernen Land\, findet eines Tages eine Wunderkugel. Sie erfüllt jedem\, der sie in Händen hält einen Wunsch\, aber nur einen einzigen! Was soll Milu sich nur wünschen? Milu kann sich einfach nicht entscheiden… Als die Kugel jedoch in die Hände der Erwachsenen gelangt\, verändert sich das bisher beschauliche Leben im Dorf auf rasante Weise. Aber sind die Menschen denn nun glücklicher?“\nJean und Sandrine erzählen dieses alte Märchen als poetisches Bildertheater\, in dem die Kinder das zauberhafte Zusammenspiel von Bild und Musik entdecken. Sie beobachten die Künstlerin Sandrine\, wie sie Bilder in den Sand zeichnet.\nDiese erscheinen auf einer großen Leinwand. In den Bildern bewegt die Künstlerin ihre Schattenfiguren und macht so die Geschichte sichtbar.\nMit Piano und Celesta-Glockenspiel begleitet der Musiker Jean dieses wundersame Erlebnis. \nGruppenanmeldungen sind über das Kulturbüro der Stadt Jülich bei Frau Vierthaler unter 02461/ 63-416 oder bei Frau Chorus 02461/ 63-621 oder unter Kulturbuero@juelich.de möglich.\nVVK: Kinder 6\,00 € | Begleitpersonen sind frei.
URL:https://www.kuba-juelich.de/event/die-wunderkugel/
CATEGORIES:Kleinkunst
ATTACH;FMTTYPE=image/jpeg:https://www.kuba-juelich.de/wp-content/uploads/2024/12/fithe_weltkugel.jpg
END:VEVENT
END:VCALENDAR