BEGIN:VCALENDAR
VERSION:2.0
PRODID:-//KuBa Jülich - ECPv6.2.9//NONSGML v1.0//EN
CALSCALE:GREGORIAN
METHOD:PUBLISH
X-WR-CALNAME:KuBa Jülich
X-ORIGINAL-URL:https://www.kuba-juelich.de
X-WR-CALDESC:Veranstaltungen für KuBa Jülich
REFRESH-INTERVAL;VALUE=DURATION:PT1H
X-Robots-Tag:noindex
X-PUBLISHED-TTL:PT1H
BEGIN:VTIMEZONE
TZID:Europe/Berlin
BEGIN:DAYLIGHT
TZOFFSETFROM:+0100
TZOFFSETTO:+0200
TZNAME:CEST
DTSTART:20240331T010000
END:DAYLIGHT
BEGIN:STANDARD
TZOFFSETFROM:+0200
TZOFFSETTO:+0100
TZNAME:CET
DTSTART:20241027T010000
END:STANDARD
END:VTIMEZONE
BEGIN:VEVENT
DTSTART;TZID=Europe/Berlin:20240913T180000
DTEND;TZID=Europe/Berlin:20240913T230000
DTSTAMP:20260424T173505
CREATED:20240903T091311Z
LAST-MODIFIED:20240903T192929Z
UID:10000268-1726250400-1726268400@www.kuba-juelich.de
SUMMARY:KuBa Biergarten Closing
DESCRIPTION:Als Ersatz für das Schüttelfestchen findet heute das KuBa Biergarten Closing statt.\nPräsident Thomas Beys sorgt den ganzen Abend für Stimmung und gute Laune im Biergarten. \nLos geht’s ab 19 Uhr mit DJ Buto\, der für die entsprechende musikalische Unterhaltung sorgt.\nGegen 20 Uhr gibt es dann eine Stunde Live Musik und Kölsche Tön von und mit der Band Raderdoll. \nIm Anschluss geht’s in der Kneipe weiter mit DJ Buto. Die Tanzfläche ist eröffnet! \nDer Biergarten öffnet schon um 18 Uhr. \nWir freuen uns auf einen tollen Abend mit euch!
URL:https://www.kuba-juelich.de/event/kuba-biergarten-closing/
CATEGORIES:Konzert,Party
ATTACH;FMTTYPE=image/jpeg:https://www.kuba-juelich.de/wp-content/uploads/2024/09/KuBa_Biergarten-scaled.jpg
END:VEVENT
BEGIN:VEVENT
DTSTART;TZID=Europe/Berlin:20240913T190000
DTEND;TZID=Europe/Berlin:20240913T230000
DTSTAMP:20260424T173505
CREATED:20240619T134906Z
LAST-MODIFIED:20240903T091700Z
UID:10000240-1726254000-1726268400@www.kuba-juelich.de
SUMMARY:Schüttelfestchen Open Air
DESCRIPTION:DIE VERANSTALTNG FINDET SO NICHT STATT. Leider sind zu wenige Tickets verkauft.\nEs gibt aber eine Alternativ-Veranstaltung: KuBa Biergarten Closing mit Live Musik von Raderdoll und DJ Buto.\nDer ursprüngliche Ticketpreis wird erstattet\, bzw. bei Wunsch auf das Biergarten Closing angerechnet.\nTicket Erstattung am 13.09. vor Ort ab 18 Uhr. Sollte dies nicht möglich sein bitte mit dem KuBa-Büro Kontakt aufnehmne.\ninfo@kuba-juelich.de oder  02461-346643. \nSCHÜTTELFESTCHEN BIERGARTEN OPEN AIR \nNach einem Jahr Pause findet am 13. September nun endlich die dritte Auflage vom sogenannten „Schüttelfest“ statt. In diesem Jahr in der abgewandelten Variante im gemütlichen KuBa-Biergarten und daher unter dem neuen Namen „Schüttelfestchen“. \nDie besondere Open-Air Atmosphäre im Biergarten hinter dem Jülicher Kulturbahnhof verspicht bei einem hoffentlich lauen Sommerabend einen unterhaltsamen Abend bei Musik und kühlen Getränken. \nFür das musikalische Programm sorgen die bekannten Kölner Bands Kempes Feinest und Bel Air. Abgerundet wird der Abend mit kölschen Tönen von der Band Raderdoll. \nNatürlich hat auch Präsident Thomas Beys einige Überraschungen für das „Schüttelfestchen“ Publikum geplant. \nWenn Kempes Feinest die Bühne entert\, wird es bunt und laut. Die 5 Musiker um Frontfrau Nici sprühen vor Lebensfreude und stecken mit dieser unbändigen Energie ihr Publikum an. \nKempes Feinest verbinden die Liebe zur kölschen Sprache mit einem frechen musikalischen Mix aus Pop\, Rock\, Ska & Latin. Sie erschaffen daraus ganz eigene Songs zum Tanzen und Balladen zum Schunkeln – Musik\, die berührt und ins Ohr geht. \nPoppig-rockige Nummern wie “Verbeeje” oder “Wenn du nit danze kanns” wechseln sich munter mit emotionalen Parts wie “Naach verdreive” oder “Mädche vum Rhing” ab – da bleibt niemand still sitzen und kein Auge trocken. \nDie fünf Jungs von Bel Air haben sich Ende 2021 gegründet und sind voller ansteckender Energie. Mit ihren Singles „Konfetti in der Luff“ oder „Dat nächste Kölsch“ wird sofort klar wofür sie stehen: frische\, tanzbare Pop/Rockmusik mit Texten\, die man sofort mitsingen kann.\n100% kölsches Feeling!\n100% unbeschwerte Euphorie die begeistert! \nNach der Live Musik ist vor der Party mit DJ Buto. In der Kneipe wird bis tief in die Nacht weitergefeiert. \nDas „Schüttelfestchen“ findet am Freitag\, den 13.09.2024 im KuBa-Biergarten in Jülich statt.  \nEinlass ist ab 18 Uhr und Beginn ab 19 Uhr. \nDie Tickets gibt es ab sofort im KuBa-Kiosk.
URL:https://www.kuba-juelich.de/event/schuettelfestchen/
CATEGORIES:Konzert
ATTACH;FMTTYPE=image/jpeg:https://www.kuba-juelich.de/wp-content/uploads/2024/06/240612_Schuettelfestchen_Plakat_WEB_ausfall.jpg
END:VEVENT
END:VCALENDAR